{
 "currentVersion": 10.81,
 "serviceDescription": "",
 "mapName": "Layers",
 "description": "",
 "copyrightText": "KUB, KGIS",
 "supportsDynamicLayers": true,
 "layers": [
  {
   "id": 0,
   "name": "0",
   "parentLayerId": -1,
   "defaultVisibility": true,
   "subLayerIds": [
    1,
    2
   ],
   "minScale": 29000,
   "maxScale": 0,
   "type": "Group Layer"
  },
  {
   "id": 1,
   "name": "KGIS.TRANS_RouteStreets_REG",
   "parentLayerId": 0,
   "defaultVisibility": true,
   "subLayerIds": null,
   "minScale": 0,
   "maxScale": 0,
   "type": "Feature Layer",
   "geometryType": "esriGeometryPolyline"
  },
  {
   "id": 2,
   "name": "Streets",
   "parentLayerId": 0,
   "defaultVisibility": true,
   "subLayerIds": null,
   "minScale": 0,
   "maxScale": 600,
   "type": "Feature Layer",
   "geometryType": "esriGeometryPolyline"
  },
  {
   "id": 3,
   "name": "24500",
   "parentLayerId": -1,
   "defaultVisibility": true,
   "subLayerIds": [
    4
   ],
   "minScale": 0,
   "maxScale": 29001,
   "type": "Group Layer"
  },
  {
   "id": 4,
   "name": "Streets and Driveways",
   "parentLayerId": 3,
   "defaultVisibility": true,
   "subLayerIds": [
    5,
    6,
    7,
    8
   ],
   "minScale": 0,
   "maxScale": 0,
   "type": "Group Layer"
  },
  {
   "id": 5,
   "name": "Interstates Regional",
   "parentLayerId": 4,
   "defaultVisibility": true,
   "subLayerIds": null,
   "minScale": 633600,
   "maxScale": 0,
   "type": "Feature Layer",
   "geometryType": "esriGeometryPolyline"
  },
  {
   "id": 6,
   "name": "Knox_Interstates",
   "parentLayerId": 4,
   "defaultVisibility": true,
   "subLayerIds": null,
   "minScale": 0,
   "maxScale": 0,
   "type": "Feature Layer",
   "geometryType": "esriGeometryPolyline"
  },
  {
   "id": 7,
   "name": "Knox_USHwys",
   "parentLayerId": 4,
   "defaultVisibility": true,
   "subLayerIds": null,
   "minScale": 0,
   "maxScale": 0,
   "type": "Feature Layer",
   "geometryType": "esriGeometryPolyline"
  },
  {
   "id": 8,
   "name": "Major Roads Gray",
   "parentLayerId": 4,
   "defaultVisibility": true,
   "subLayerIds": null,
   "minScale": 633600,
   "maxScale": 0,
   "type": "Feature Layer",
   "geometryType": "esriGeometryPolyline"
  },
  {
   "id": 9,
   "name": "Water Ways and Neighborhoods ",
   "parentLayerId": -1,
   "defaultVisibility": true,
   "subLayerIds": [
    10,
    19
   ],
   "minScale": 0,
   "maxScale": 0,
   "type": "Group Layer"
  },
  {
   "id": 10,
   "name": "City and County Boundaries",
   "parentLayerId": 9,
   "defaultVisibility": true,
   "subLayerIds": [
    11,
    12,
    13,
    14,
    15,
    16,
    17,
    18
   ],
   "minScale": 0,
   "maxScale": 0,
   "type": "Group Layer"
  },
  {
   "id": 11,
   "name": "Neighborhoods in Knox County",
   "parentLayerId": 10,
   "defaultVisibility": true,
   "subLayerIds": null,
   "minScale": 633600,
   "maxScale": 0,
   "type": "Feature Layer",
   "geometryType": "esriGeometryPolygon"
  },
  {
   "id": 12,
   "name": "Incorporated Areas in Knox County",
   "parentLayerId": 10,
   "defaultVisibility": true,
   "subLayerIds": null,
   "minScale": 633600,
   "maxScale": 0,
   "type": "Feature Layer",
   "geometryType": "esriGeometryPolygon"
  },
  {
   "id": 13,
   "name": "KGIS.GU_AdminBounds_Anderson",
   "parentLayerId": 10,
   "defaultVisibility": true,
   "subLayerIds": null,
   "minScale": 633600,
   "maxScale": 0,
   "type": "Feature Layer",
   "geometryType": "esriGeometryPolygon"
  },
  {
   "id": 14,
   "name": "KGIS.GU_AdminBounds_Blount",
   "parentLayerId": 10,
   "defaultVisibility": true,
   "subLayerIds": null,
   "minScale": 633600,
   "maxScale": 0,
   "type": "Feature Layer",
   "geometryType": "esriGeometryPolygon"
  },
  {
   "id": 15,
   "name": "KGIS.Gu_AdminBounds_Grainger",
   "parentLayerId": 10,
   "defaultVisibility": true,
   "subLayerIds": null,
   "minScale": 633600,
   "maxScale": 0,
   "type": "Feature Layer",
   "geometryType": "esriGeometryPolygon"
  },
  {
   "id": 16,
   "name": "KGIS.GU_AdminBounds_Jefferson",
   "parentLayerId": 10,
   "defaultVisibility": true,
   "subLayerIds": null,
   "minScale": 633600,
   "maxScale": 0,
   "type": "Feature Layer",
   "geometryType": "esriGeometryPolygon"
  },
  {
   "id": 17,
   "name": "KGIS.GU_AdminBounds_Sevier",
   "parentLayerId": 10,
   "defaultVisibility": true,
   "subLayerIds": null,
   "minScale": 633600,
   "maxScale": 0,
   "type": "Feature Layer",
   "geometryType": "esriGeometryPolygon"
  },
  {
   "id": 18,
   "name": "KGIS.GU_AdminBounds_Union",
   "parentLayerId": 10,
   "defaultVisibility": true,
   "subLayerIds": null,
   "minScale": 633600,
   "maxScale": 0,
   "type": "Feature Layer",
   "geometryType": "esriGeometryPolygon"
  },
  {
   "id": 19,
   "name": "Streams and Rivers",
   "parentLayerId": 9,
   "defaultVisibility": true,
   "subLayerIds": [
    20,
    21,
    22,
    23,
    24
   ],
   "minScale": 0,
   "maxScale": 0,
   "type": "Group Layer"
  },
  {
   "id": 20,
   "name": "WaterBodies Knox County",
   "parentLayerId": 19,
   "defaultVisibility": true,
   "subLayerIds": null,
   "minScale": 633600,
   "maxScale": 0,
   "type": "Feature Layer",
   "geometryType": "esriGeometryPolygon"
  },
  {
   "id": 21,
   "name": "WaterBodies Regional",
   "parentLayerId": 19,
   "defaultVisibility": true,
   "subLayerIds": null,
   "minScale": 633600,
   "maxScale": 0,
   "type": "Feature Layer",
   "geometryType": "esriGeometryPolygon"
  },
  {
   "id": 22,
   "name": "WaterBodies_Union",
   "parentLayerId": 19,
   "defaultVisibility": true,
   "subLayerIds": null,
   "minScale": 633600,
   "maxScale": 0,
   "type": "Feature Layer",
   "geometryType": "esriGeometryPolygon"
  },
  {
   "id": 23,
   "name": "KGIS.HYDRO_Waterbodies_Grainger",
   "parentLayerId": 19,
   "defaultVisibility": true,
   "subLayerIds": null,
   "minScale": 633600,
   "maxScale": 0,
   "type": "Feature Layer",
   "geometryType": "esriGeometryPolygon"
  },
  {
   "id": 24,
   "name": "KGIS.HYDRO_Waterbodies_Jeff",
   "parentLayerId": 19,
   "defaultVisibility": true,
   "subLayerIds": null,
   "minScale": 633600,
   "maxScale": 0,
   "type": "Feature Layer",
   "geometryType": "esriGeometryPolygon"
  }
 ],
 "tables": [],
 "spatialReference": {
  "wkid": 2915,
  "latestWkid": 2915
 },
 "singleFusedMapCache": true,
 "tileInfo": {
  "rows": 256,
  "cols": 256,
  "dpi": 96,
  "format": "PNG32",
  "compressionQuality": 0,
  "origin": {
   "x": -121521300,
   "y": 153045600
  },
  "spatialReference": {
   "wkid": 2915,
   "latestWkid": 2915
  },
  "lods": [
   {
    "level": 0,
    "resolution": 1302.0833333333333,
    "scale": 1500000
   },
   {
    "level": 1,
    "resolution": 868.0555555555555,
    "scale": 1000000
   },
   {
    "level": 2,
    "resolution": 550,
    "scale": 633600
   },
   {
    "level": 3,
    "resolution": 330,
    "scale": 380160
   },
   {
    "level": 4,
    "resolution": 165,
    "scale": 190080
   },
   {
    "level": 5,
    "resolution": 82.5,
    "scale": 95040
   },
   {
    "level": 6,
    "resolution": 55,
    "scale": 63360
   },
   {
    "level": 7,
    "resolution": 41.666666666666664,
    "scale": 48000
   },
   {
    "level": 8,
    "resolution": 20.833333333333332,
    "scale": 24000
   },
   {
    "level": 9,
    "resolution": 10.416666666666666,
    "scale": 12000
   },
   {
    "level": 10,
    "resolution": 8.333333333333332,
    "scale": 9600
   },
   {
    "level": 11,
    "resolution": 5.208333333333333,
    "scale": 6000
   },
   {
    "level": 12,
    "resolution": 4.166666666666666,
    "scale": 4800
   },
   {
    "level": 13,
    "resolution": 2.083333333333333,
    "scale": 2400
   },
   {
    "level": 14,
    "resolution": 1.0416666666666665,
    "scale": 1200
   },
   {
    "level": 15,
    "resolution": 0.5208333333333333,
    "scale": 600
   }
  ]
 },
 "initialExtent": {
  "xmin": 2550699.3684671656,
  "ymin": 591187.7103588775,
  "xmax": 2624160.880658956,
  "ymax": 622898.3175578391,
  "spatialReference": {
   "wkid": 2915,
   "latestWkid": 2915
  }
 },
 "fullExtent": {
  "xmin": 2287294.01026957,
  "ymin": 322108.20951946103,
  "xmax": 2886521.73208731,
  "ymax": 833515.600088462,
  "spatialReference": {
   "wkid": 2915,
   "latestWkid": 2915
  }
 },
 "minScale": 1500000,
 "maxScale": 2400,
 "units": "esriFeet",
 "supportedImageFormatTypes": "PNG32,PNG24,PNG,JPG,DIB,TIFF,EMF,PS,PDF,GIF,SVG,SVGZ,BMP",
 "documentInfo": {
  "Title": "",
  "Author": "",
  "Comments": "",
  "Subject": "Basemap for KUB GIS Web Sites Cached Service",
  "Category": "",
  "AntialiasingMode": "None",
  "TextAntialiasingMode": "Force",
  "Keywords": "basemap,county,tennessee"
 },
 "capabilities": "Map,Query,Data",
 "supportedQueryFormats": "JSON, geoJSON",
 "hasVersionedData": true,
 "exportTilesAllowed": false,
 "referenceScale": 0,
 "datumTransformations": [
  {
   "geoTransforms": [
    {
     "wkid": 108001,
     "latestWkid": 1241,
     "transformForward": true,
     "name": "NAD_1927_To_NAD_1983_NADCON"
    }
   ]
  },
  {
   "geoTransforms": [
    {
     "wkid": 108001,
     "latestWkid": 1241,
     "transformForward": false,
     "name": "NAD_1927_To_NAD_1983_NADCON"
    }
   ]
  }
 ],
 "supportsDatumTransformation": true,
 "maxRecordCount": 1000,
 "maxImageHeight": 4096,
 "maxImageWidth": 4096,
 "supportedExtensions": ""
}
